BEGIN:VCALENDAR
VERSION:2.0
PRODID:-//Advance Albany County Alliance - ECPv6.15.18//NONSGML v1.0//EN
CALSCALE:GREGORIAN
METHOD:PUBLISH
X-WR-CALNAME:Advance Albany County Alliance
X-ORIGINAL-URL:https://advancealbanycounty.com
X-WR-CALDESC:Events for Advance Albany County Alliance
REFRESH-INTERVAL;VALUE=DURATION:PT1H
X-Robots-Tag:noindex
X-PUBLISHED-TTL:PT1H
BEGIN:VTIMEZONE
TZID:America/New_York
BEGIN:DAYLIGHT
TZOFFSETFROM:-0500
TZOFFSETTO:-0400
TZNAME:EDT
DTSTART:20240310T070000
END:DAYLIGHT
BEGIN:STANDARD
TZOFFSETFROM:-0400
TZOFFSETTO:-0500
TZNAME:EST
DTSTART:20241103T060000
END:STANDARD
BEGIN:DAYLIGHT
TZOFFSETFROM:-0500
TZOFFSETTO:-0400
TZNAME:EDT
DTSTART:20250309T070000
END:DAYLIGHT
BEGIN:STANDARD
TZOFFSETFROM:-0400
TZOFFSETTO:-0500
TZNAME:EST
DTSTART:20251102T060000
END:STANDARD
BEGIN:DAYLIGHT
TZOFFSETFROM:-0500
TZOFFSETTO:-0400
TZNAME:EDT
DTSTART:20260308T070000
END:DAYLIGHT
BEGIN:STANDARD
TZOFFSETFROM:-0400
TZOFFSETTO:-0500
TZNAME:EST
DTSTART:20261101T060000
END:STANDARD
END:VTIMEZONE
BEGIN:VEVENT
DTSTART;TZID=America/New_York:20250911T100000
DTEND;TZID=America/New_York:20250911T120000
DTSTAMP:20260422T125102
CREATED:20250828T154949Z
LAST-MODIFIED:20260113T033026Z
UID:10000273-1757584800-1757592000@advancealbanycounty.com
SUMMARY:Board of Directors Meeting
DESCRIPTION:
URL:https://advancealbanycounty.com/event/acphla-september-2025/
LOCATION:Huether School of Business\, 994 Madison Ave\, Albany\, NY\, 12208\, United States
CATEGORIES:ACPHLA
END:VEVENT
BEGIN:VEVENT
DTSTART;TZID=America/New_York:20250814T100000
DTEND;TZID=America/New_York:20250814T120000
DTSTAMP:20260422T125102
CREATED:20250730T181706Z
LAST-MODIFIED:20260113T033022Z
UID:10000249-1755165600-1755172800@advancealbanycounty.com
SUMMARY:Board of Directors Meeting
DESCRIPTION:
URL:https://advancealbanycounty.com/event/board-of-directors-meeting-3/
LOCATION:Huether School of Business\, 994 Madison Ave\, Albany\, NY\, 12208\, United States
CATEGORIES:ACPHLA
END:VEVENT
BEGIN:VEVENT
DTSTART;TZID=America/New_York:20250710T100000
DTEND;TZID=America/New_York:20250710T120000
DTSTAMP:20260422T125102
CREATED:20250710T184036Z
LAST-MODIFIED:20260113T033016Z
UID:10000224-1752141600-1752148800@advancealbanycounty.com
SUMMARY:Board of Directors Meeting
DESCRIPTION:
URL:https://advancealbanycounty.com/event/acphla-july-2025/
LOCATION:Huether School of Business\, 994 Madison Ave\, Albany\, NY\, 12208\, United States
CATEGORIES:ACPHLA
END:VEVENT
BEGIN:VEVENT
DTSTART;TZID=America/New_York:20250612T100000
DTEND;TZID=America/New_York:20250612T120000
DTSTAMP:20260422T125102
CREATED:20250728T151739Z
LAST-MODIFIED:20260113T033011Z
UID:10000231-1749722400-1749729600@advancealbanycounty.com
SUMMARY:Board of Directors Meeting
DESCRIPTION:
URL:https://advancealbanycounty.com/event/acphla-june-2025/
LOCATION:Huether School of Business\, 994 Madison Ave\, Albany\, NY\, 12208\, United States
CATEGORIES:ACPHLA
END:VEVENT
END:VCALENDAR