BEGIN:VCALENDAR
VERSION:2.0
PRODID:-//Advance Albany County Alliance - ECPv6.15.18//NONSGML v1.0//EN
CALSCALE:GREGORIAN
METHOD:PUBLISH
X-WR-CALNAME:Advance Albany County Alliance
X-ORIGINAL-URL:https://advancealbanycounty.com
X-WR-CALDESC:Events for Advance Albany County Alliance
REFRESH-INTERVAL;VALUE=DURATION:PT1H
X-Robots-Tag:noindex
X-PUBLISHED-TTL:PT1H
BEGIN:VTIMEZONE
TZID:America/New_York
BEGIN:DAYLIGHT
TZOFFSETFROM:-0500
TZOFFSETTO:-0400
TZNAME:EDT
DTSTART:20240310T070000
END:DAYLIGHT
BEGIN:STANDARD
TZOFFSETFROM:-0400
TZOFFSETTO:-0500
TZNAME:EST
DTSTART:20241103T060000
END:STANDARD
BEGIN:DAYLIGHT
TZOFFSETFROM:-0500
TZOFFSETTO:-0400
TZNAME:EDT
DTSTART:20250309T070000
END:DAYLIGHT
BEGIN:STANDARD
TZOFFSETFROM:-0400
TZOFFSETTO:-0500
TZNAME:EST
DTSTART:20251102T060000
END:STANDARD
BEGIN:DAYLIGHT
TZOFFSETFROM:-0500
TZOFFSETTO:-0400
TZNAME:EDT
DTSTART:20260308T070000
END:DAYLIGHT
BEGIN:STANDARD
TZOFFSETFROM:-0400
TZOFFSETTO:-0500
TZNAME:EST
DTSTART:20261101T060000
END:STANDARD
END:VTIMEZONE
BEGIN:VEVENT
DTSTART;TZID=America/New_York:20250903T170000
DTEND;TZID=America/New_York:20250903T173000
DTSTAMP:20260422T092233
CREATED:20251114T182052Z
LAST-MODIFIED:20251114T182053Z
UID:10000389-1756918800-1756920600@advancealbanycounty.com
SUMMARY:Board of Directors Meeting
DESCRIPTION:
URL:https://advancealbanycounty.com/event/accrc-september-2025/
LOCATION:Advance Albany County Alliance\, 111 Washington Ave\, Albany\, NY\, 12210\, United States
CATEGORIES:ACCRC
END:VEVENT
BEGIN:VEVENT
DTSTART;TZID=America/New_York:20250903T173000
DTEND;TZID=America/New_York:20250903T180000
DTSTAMP:20260422T092233
CREATED:20251114T181715Z
LAST-MODIFIED:20251114T181716Z
UID:10000388-1756920600-1756922400@advancealbanycounty.com
SUMMARY:Board of Directors Meeting
DESCRIPTION:
URL:https://advancealbanycounty.com/event/board-of-directors-meeting-22/
LOCATION:Advance Albany County Alliance\, 111 Washington Ave\, Albany\, NY\, 12210\, United States
CATEGORIES:ACIDA
END:VEVENT
BEGIN:VEVENT
DTSTART;TZID=America/New_York:20250911T100000
DTEND;TZID=America/New_York:20250911T120000
DTSTAMP:20260422T092233
CREATED:20250828T154949Z
LAST-MODIFIED:20260113T033026Z
UID:10000273-1757584800-1757592000@advancealbanycounty.com
SUMMARY:Board of Directors Meeting
DESCRIPTION:
URL:https://advancealbanycounty.com/event/acphla-september-2025/
LOCATION:Huether School of Business\, 994 Madison Ave\, Albany\, NY\, 12208\, United States
CATEGORIES:ACPHLA
END:VEVENT
BEGIN:VEVENT
DTSTART;TZID=America/New_York:20250916T083000
DTEND;TZID=America/New_York:20250916T093000
DTSTAMP:20260422T092233
CREATED:20250828T155221Z
LAST-MODIFIED:20251021T151854Z
UID:10000275-1758011400-1758015000@advancealbanycounty.com
SUMMARY:Board of Directors Meeting
DESCRIPTION:
URL:https://advancealbanycounty.com/event/acbdc-september-2025/
LOCATION:Advance Albany County Alliance\, 111 Washington Ave\, Albany\, NY\, 12210\, United States
CATEGORIES:ACBDC
END:VEVENT
BEGIN:VEVENT
DTSTART;TZID=America/New_York:20250924T083000
DTEND;TZID=America/New_York:20250924T084500
DTSTAMP:20260422T092233
CREATED:20250911T193142Z
LAST-MODIFIED:20251007T140753Z
UID:10000276-1758702600-1758703500@advancealbanycounty.com
SUMMARY:Finance Committee Meeting
DESCRIPTION:
URL:https://advancealbanycounty.com/event/aaca-september-2025/
LOCATION:Advance Albany County Alliance\, 111 Washington Ave\, Albany\, NY\, 12210\, United States
CATEGORIES:AACA
END:VEVENT
BEGIN:VEVENT
DTSTART;TZID=America/New_York:20250924T084500
DTEND;TZID=America/New_York:20250924T100000
DTSTAMP:20260422T092233
CREATED:20250926T164415Z
LAST-MODIFIED:20260128T161921Z
UID:10000317-1758703500-1758708000@advancealbanycounty.com
SUMMARY:Board of Directors Meeting
DESCRIPTION:
URL:https://advancealbanycounty.com/event/aaca-september-2025-2/
LOCATION:Advance Albany County Alliance\, 111 Washington Ave\, Albany\, NY\, 12210\, United States
CATEGORIES:AACA
END:VEVENT
BEGIN:VEVENT
DTSTART;TZID=America/New_York:20250925T160000
DTEND;TZID=America/New_York:20250925T190000
DTSTAMP:20260422T092233
CREATED:20251014T181737Z
LAST-MODIFIED:20251219T145211Z
UID:10000343-1758816000-1758826800@advancealbanycounty.com
SUMMARY:Reimagine Saint Rose Public Meeting #2 – Community Open House
DESCRIPTION:
URL:https://advancealbanycounty.com/event/acphla-september-2025-2/
LOCATION:Lally School of Education\, 1009 Madison Avenue\, Albany\, NY\, 12208\, United States
CATEGORIES:ACPHLA
ATTACH;FMTTYPE=image/jpeg:https://advancealbanycounty.com/wp-content/uploads/2025/10/Public-Meeting-2.jpg
END:VEVENT
END:VCALENDAR