BEGIN:VCALENDAR
VERSION:2.0
PRODID:-//Advance Albany County Alliance - ECPv6.15.18//NONSGML v1.0//EN
CALSCALE:GREGORIAN
METHOD:PUBLISH
X-WR-CALNAME:Advance Albany County Alliance
X-ORIGINAL-URL:https://advancealbanycounty.com
X-WR-CALDESC:Events for Advance Albany County Alliance
REFRESH-INTERVAL;VALUE=DURATION:PT1H
X-Robots-Tag:noindex
X-PUBLISHED-TTL:PT1H
BEGIN:VTIMEZONE
TZID:America/New_York
BEGIN:DAYLIGHT
TZOFFSETFROM:-0500
TZOFFSETTO:-0400
TZNAME:EDT
DTSTART:20240310T070000
END:DAYLIGHT
BEGIN:STANDARD
TZOFFSETFROM:-0400
TZOFFSETTO:-0500
TZNAME:EST
DTSTART:20241103T060000
END:STANDARD
BEGIN:DAYLIGHT
TZOFFSETFROM:-0500
TZOFFSETTO:-0400
TZNAME:EDT
DTSTART:20250309T070000
END:DAYLIGHT
BEGIN:STANDARD
TZOFFSETFROM:-0400
TZOFFSETTO:-0500
TZNAME:EST
DTSTART:20251102T060000
END:STANDARD
BEGIN:DAYLIGHT
TZOFFSETFROM:-0500
TZOFFSETTO:-0400
TZNAME:EDT
DTSTART:20260308T070000
END:DAYLIGHT
BEGIN:STANDARD
TZOFFSETFROM:-0400
TZOFFSETTO:-0500
TZNAME:EST
DTSTART:20261101T060000
END:STANDARD
BEGIN:DAYLIGHT
TZOFFSETFROM:-0500
TZOFFSETTO:-0400
TZNAME:EDT
DTSTART:20270314T070000
END:DAYLIGHT
BEGIN:STANDARD
TZOFFSETFROM:-0400
TZOFFSETTO:-0500
TZNAME:EST
DTSTART:20271107T060000
END:STANDARD
END:VTIMEZONE
BEGIN:VEVENT
DTSTART;TZID=America/New_York:20260409T100000
DTEND;TZID=America/New_York:20260409T120000
DTSTAMP:20260421T042803
CREATED:20260406T125716Z
LAST-MODIFIED:20260414T185525Z
UID:10000429-1775728800-1775736000@advancealbanycounty.com
SUMMARY:Board of Directors Meeting
DESCRIPTION:
URL:https://advancealbanycounty.com/event/acphla-april-2026/
LOCATION:Lally School of Education\, 1009 Madison Avenue\, Albany\, NY\, 12208\, United States
CATEGORIES:ACPHLA
END:VEVENT
BEGIN:VEVENT
DTSTART;TZID=America/New_York:20260312T103000
DTEND;TZID=America/New_York:20260312T120000
DTSTAMP:20260421T042803
CREATED:20260223T180815Z
LAST-MODIFIED:20260414T185612Z
UID:10000417-1773311400-1773316800@advancealbanycounty.com
SUMMARY:Board of Directors Meeting
DESCRIPTION:
URL:https://advancealbanycounty.com/event/acphla-march-2026/
LOCATION:Lally School of Education\, 1009 Madison Avenue\, Albany\, NY\, 12208\, United States
CATEGORIES:ACPHLA
END:VEVENT
BEGIN:VEVENT
DTSTART;TZID=America/New_York:20260312T100000
DTEND;TZID=America/New_York:20260312T103000
DTSTAMP:20260421T042803
CREATED:20260226T165329Z
LAST-MODIFIED:20260413T203320Z
UID:10000424-1773309600-1773311400@advancealbanycounty.com
SUMMARY:Audit Committee Meeting
DESCRIPTION:
URL:https://advancealbanycounty.com/event/acphla-march-2026-2/
LOCATION:Lally School of Education\, 1009 Madison Avenue\, Albany\, NY\, 12208\, United States
CATEGORIES:ACPHLA
END:VEVENT
BEGIN:VEVENT
DTSTART;TZID=America/New_York:20260212T103000
DTEND;TZID=America/New_York:20260212T120000
DTSTAMP:20260421T042803
CREATED:20260203T153933Z
LAST-MODIFIED:20260401T162846Z
UID:10000415-1770892200-1770897600@advancealbanycounty.com
SUMMARY:Board of Directors Meeting
DESCRIPTION:
URL:https://advancealbanycounty.com/event/acphla-february-2026-2/
LOCATION:Lally School of Education\, 1009 Madison Avenue\, Albany\, NY\, 12208\, United States
CATEGORIES:ACPHLA
END:VEVENT
BEGIN:VEVENT
DTSTART;TZID=America/New_York:20260212T100000
DTEND;TZID=America/New_York:20260212T101500
DTSTAMP:20260421T042803
CREATED:20260203T153839Z
LAST-MODIFIED:20260223T180657Z
UID:10000414-1770890400-1770891300@advancealbanycounty.com
SUMMARY:Finance Committee Meeting
DESCRIPTION:
URL:https://advancealbanycounty.com/event/acphla-february-2026/
LOCATION:Lally School of Education\, 1009 Madison Avenue\, Albany\, NY\, 12208\, United States
CATEGORIES:ACPHLA
END:VEVENT
BEGIN:VEVENT
DTSTART;TZID=America/New_York:20260108T100000
DTEND;TZID=America/New_York:20260108T120000
DTSTAMP:20260421T042803
CREATED:20251219T151508Z
LAST-MODIFIED:20260401T162718Z
UID:10000397-1767866400-1767873600@advancealbanycounty.com
SUMMARY:Board of Directors Meeting
DESCRIPTION:
URL:https://advancealbanycounty.com/event/acphla-january-2026/
LOCATION:Lally School of Education\, 1009 Madison Avenue\, Albany\, NY\, 12208\, United States
CATEGORIES:ACPHLA
END:VEVENT
BEGIN:VEVENT
DTSTART;TZID=America/New_York:20251211T103000
DTEND;TZID=America/New_York:20251211T120000
DTSTAMP:20260421T042803
CREATED:20250926T165059Z
LAST-MODIFIED:20260223T180917Z
UID:10000321-1765449000-1765454400@advancealbanycounty.com
SUMMARY:Board of Directors Meeting
DESCRIPTION:
URL:https://advancealbanycounty.com/event/board-of-directors-meeting-12/
LOCATION:Lally School of Education\, 1009 Madison Avenue\, Albany\, NY\, 12208\, United States
CATEGORIES:ACPHLA
END:VEVENT
BEGIN:VEVENT
DTSTART;TZID=America/New_York:20251211T101500
DTEND;TZID=America/New_York:20251211T103000
DTSTAMP:20260421T042803
CREATED:20251201T213424Z
LAST-MODIFIED:20260223T180926Z
UID:10000396-1765448100-1765449000@advancealbanycounty.com
SUMMARY:Governance Committee Meeting
DESCRIPTION:
URL:https://advancealbanycounty.com/event/acphla-december-2025-2/
LOCATION:Lally School of Education\, 1009 Madison Avenue\, Albany\, NY\, 12208\, United States
CATEGORIES:ACPHLA
END:VEVENT
BEGIN:VEVENT
DTSTART;TZID=America/New_York:20251211T100000
DTEND;TZID=America/New_York:20251211T101500
DTSTAMP:20260421T042803
CREATED:20251201T213332Z
LAST-MODIFIED:20260310T175357Z
UID:10000395-1765447200-1765448100@advancealbanycounty.com
SUMMARY:Audit Committee Meeting
DESCRIPTION:
URL:https://advancealbanycounty.com/event/acphla-december-2025/
LOCATION:Lally School of Education\, 1009 Madison Avenue\, Albany\, NY\, 12208\, United States
CATEGORIES:ACPHLA
END:VEVENT
BEGIN:VEVENT
DTSTART;TZID=America/New_York:20251118T100000
DTEND;TZID=America/New_York:20251118T120000
DTSTAMP:20260421T042803
CREATED:20250926T165024Z
LAST-MODIFIED:20260223T180959Z
UID:10000320-1763460000-1763467200@advancealbanycounty.com
SUMMARY:Board of Directors Meeting
DESCRIPTION:
URL:https://advancealbanycounty.com/event/acphla-november-2025/
LOCATION:Lally School of Education\, 1009 Madison Avenue\, Albany\, NY\, 12208\, United States
CATEGORIES:ACPHLA
END:VEVENT
BEGIN:VEVENT
DTSTART;TZID=America/New_York:20251029T170000
DTEND;TZID=America/New_York:20251029T183000
DTSTAMP:20260421T042803
CREATED:20251010T145707Z
LAST-MODIFIED:20251219T145215Z
UID:10000341-1761757200-1761762600@advancealbanycounty.com
SUMMARY:Reimagine Saint Rose Public Meeting #3 – Presentation
DESCRIPTION:
URL:https://advancealbanycounty.com/event/acphla-october-2025/
LOCATION:Massry Center\, 1002 Madison Ave\, Albany\, 12208\, United States
CATEGORIES:ACPHLA
ATTACH;FMTTYPE=image/jpeg:https://advancealbanycounty.com/wp-content/uploads/2025/10/Public-Meeting-3.jpg
END:VEVENT
BEGIN:VEVENT
DTSTART;TZID=America/New_York:20251023T100000
DTEND;TZID=America/New_York:20251023T120000
DTSTAMP:20260421T042803
CREATED:20251014T181517Z
LAST-MODIFIED:20251117T144006Z
UID:10000342-1761213600-1761220800@advancealbanycounty.com
SUMMARY:Special Board of Directors Meeting
DESCRIPTION:
URL:https://advancealbanycounty.com/event/acphla-october-2025-2/
LOCATION:Lally School of Education\, 1009 Madison Avenue\, Albany\, NY\, 12208\, United States
CATEGORIES:ACPHLA
END:VEVENT
BEGIN:VEVENT
DTSTART;TZID=America/New_York:20251009T101500
DTEND;TZID=America/New_York:20251009T120000
DTSTAMP:20260421T042803
CREATED:20250926T162134Z
LAST-MODIFIED:20251028T142946Z
UID:10000306-1760004900-1760011200@advancealbanycounty.com
SUMMARY:Board of Directors Meeting
DESCRIPTION:
URL:https://advancealbanycounty.com/event/acphla-board-of-directors-meeting_10-9-25/
LOCATION:Lally School of Education\, 1009 Madison Avenue\, Albany\, NY\, 12208\, United States
CATEGORIES:ACPHLA
END:VEVENT
BEGIN:VEVENT
DTSTART;TZID=America/New_York:20251009T100000
DTEND;TZID=America/New_York:20251009T101500
DTSTAMP:20260421T042803
CREATED:20250926T162014Z
LAST-MODIFIED:20260209T191925Z
UID:10000305-1760004000-1760004900@advancealbanycounty.com
SUMMARY:Finance Committee Meeting
DESCRIPTION:
URL:https://advancealbanycounty.com/event/october-2025/
LOCATION:Lally School of Education\, 1009 Madison Avenue\, Albany\, NY\, 12208\, United States
CATEGORIES:ACPHLA
END:VEVENT
BEGIN:VEVENT
DTSTART;TZID=America/New_York:20250925T160000
DTEND;TZID=America/New_York:20250925T190000
DTSTAMP:20260421T042803
CREATED:20251014T181737Z
LAST-MODIFIED:20251219T145211Z
UID:10000343-1758816000-1758826800@advancealbanycounty.com
SUMMARY:Reimagine Saint Rose Public Meeting #2 – Community Open House
DESCRIPTION:
URL:https://advancealbanycounty.com/event/acphla-september-2025-2/
LOCATION:Lally School of Education\, 1009 Madison Avenue\, Albany\, NY\, 12208\, United States
CATEGORIES:ACPHLA
ATTACH;FMTTYPE=image/jpeg:https://advancealbanycounty.com/wp-content/uploads/2025/10/Public-Meeting-2.jpg
END:VEVENT
BEGIN:VEVENT
DTSTART;TZID=America/New_York:20250911T100000
DTEND;TZID=America/New_York:20250911T120000
DTSTAMP:20260421T042803
CREATED:20250828T154949Z
LAST-MODIFIED:20260113T033026Z
UID:10000273-1757584800-1757592000@advancealbanycounty.com
SUMMARY:Board of Directors Meeting
DESCRIPTION:
URL:https://advancealbanycounty.com/event/acphla-september-2025/
LOCATION:Huether School of Business\, 994 Madison Ave\, Albany\, NY\, 12208\, United States
CATEGORIES:ACPHLA
END:VEVENT
BEGIN:VEVENT
DTSTART;TZID=America/New_York:20250820T170000
DTEND;TZID=America/New_York:20250820T183000
DTSTAMP:20260421T042803
CREATED:20251014T181940Z
LAST-MODIFIED:20251219T145207Z
UID:10000344-1755709200-1755714600@advancealbanycounty.com
SUMMARY:Reimagine Saint Rose Public Meeting #1 – Visioning Workshop
DESCRIPTION:
URL:https://advancealbanycounty.com/event/acphla-august-2025/
LOCATION:Lally School of Education\, 1009 Madison Avenue\, Albany\, NY\, 12208\, United States
CATEGORIES:ACPHLA
ATTACH;FMTTYPE=image/jpeg:https://advancealbanycounty.com/wp-content/uploads/2025/10/Public-Meeting-1.jpg
END:VEVENT
BEGIN:VEVENT
DTSTART;TZID=America/New_York:20250814T100000
DTEND;TZID=America/New_York:20250814T120000
DTSTAMP:20260421T042803
CREATED:20250730T181706Z
LAST-MODIFIED:20260113T033022Z
UID:10000249-1755165600-1755172800@advancealbanycounty.com
SUMMARY:Board of Directors Meeting
DESCRIPTION:
URL:https://advancealbanycounty.com/event/board-of-directors-meeting-3/
LOCATION:Huether School of Business\, 994 Madison Ave\, Albany\, NY\, 12208\, United States
CATEGORIES:ACPHLA
END:VEVENT
BEGIN:VEVENT
DTSTART;TZID=America/New_York:20250710T100000
DTEND;TZID=America/New_York:20250710T120000
DTSTAMP:20260421T042803
CREATED:20250710T184036Z
LAST-MODIFIED:20260113T033016Z
UID:10000224-1752141600-1752148800@advancealbanycounty.com
SUMMARY:Board of Directors Meeting
DESCRIPTION:
URL:https://advancealbanycounty.com/event/acphla-july-2025/
LOCATION:Huether School of Business\, 994 Madison Ave\, Albany\, NY\, 12208\, United States
CATEGORIES:ACPHLA
END:VEVENT
BEGIN:VEVENT
DTSTART;TZID=America/New_York:20250612T100000
DTEND;TZID=America/New_York:20250612T120000
DTSTAMP:20260421T042803
CREATED:20250728T151739Z
LAST-MODIFIED:20260113T033011Z
UID:10000231-1749722400-1749729600@advancealbanycounty.com
SUMMARY:Board of Directors Meeting
DESCRIPTION:
URL:https://advancealbanycounty.com/event/acphla-june-2025/
LOCATION:Huether School of Business\, 994 Madison Ave\, Albany\, NY\, 12208\, United States
CATEGORIES:ACPHLA
END:VEVENT
BEGIN:VEVENT
DTSTART;TZID=America/New_York:20250508T103000
DTEND;TZID=America/New_York:20250508T120000
DTSTAMP:20260421T042803
CREATED:20250728T152011Z
LAST-MODIFIED:20260113T033006Z
UID:10000232-1746700200-1746705600@advancealbanycounty.com
SUMMARY:Board of Directors Meeting
DESCRIPTION:
URL:https://advancealbanycounty.com/event/board-of-directors-meeting/
LOCATION:Advance Albany County Alliance\, 111 Washington Ave\, Albany\, NY\, 12210\, United States
CATEGORIES:ACPHLA
END:VEVENT
BEGIN:VEVENT
DTSTART;TZID=America/New_York:20250508T100000
DTEND;TZID=America/New_York:20250508T103000
DTSTAMP:20260421T042803
CREATED:20250728T155900Z
LAST-MODIFIED:20260223T181123Z
UID:10000241-1746698400-1746700200@advancealbanycounty.com
SUMMARY:Governance Committee Meeting
DESCRIPTION:
URL:https://advancealbanycounty.com/event/acphla-may-2025/
LOCATION:Advance Albany County Alliance\, 111 Washington Ave\, Albany\, NY\, 12210\, United States
CATEGORIES:ACPHLA
END:VEVENT
BEGIN:VEVENT
DTSTART;TZID=America/New_York:20250410T100000
DTEND;TZID=America/New_York:20250410T120000
DTSTAMP:20260421T042803
CREATED:20250801T184300Z
LAST-MODIFIED:20250801T184315Z
UID:10000266-1744279200-1744286400@advancealbanycounty.com
SUMMARY:Board of Directors Meeting
DESCRIPTION:
URL:https://advancealbanycounty.com/event/acphla-april-2025/
LOCATION:Advance Albany County Alliance\, 111 Washington Ave\, Albany\, NY\, 12210\, United States
CATEGORIES:ACPHLA
END:VEVENT
BEGIN:VEVENT
DTSTART;TZID=America/New_York:20250328T103000
DTEND;TZID=America/New_York:20250328T120000
DTSTAMP:20260421T042803
CREATED:20250728T152211Z
LAST-MODIFIED:20260122T194106Z
UID:10000233-1743157800-1743163200@advancealbanycounty.com
SUMMARY:Board of Directors Meeting
DESCRIPTION:
URL:https://advancealbanycounty.com/event/acphla-march-2025/
LOCATION:Advance Albany County Alliance\, 111 Washington Ave\, Albany\, NY\, 12210\, United States
CATEGORIES:ACPHLA
END:VEVENT
BEGIN:VEVENT
DTSTART;TZID=America/New_York:20250328T100000
DTEND;TZID=America/New_York:20250328T103000
DTSTAMP:20260421T042803
CREATED:20250728T154020Z
LAST-MODIFIED:20260122T194119Z
UID:10000237-1743156000-1743157800@advancealbanycounty.com
SUMMARY:Audit Committee Meeting
DESCRIPTION:
URL:https://advancealbanycounty.com/event/acphla-march-2025-2/
LOCATION:Advance Albany County Alliance\, 111 Washington Ave\, Albany\, NY\, 12210\, United States
CATEGORIES:ACPHLA
END:VEVENT
BEGIN:VEVENT
DTSTART;TZID=America/New_York:20250305T094500
DTEND;TZID=America/New_York:20250305T120000
DTSTAMP:20260421T042803
CREATED:20250728T152413Z
LAST-MODIFIED:20260122T194129Z
UID:10000234-1741167900-1741176000@advancealbanycounty.com
SUMMARY:Board of Directors Meeting
DESCRIPTION:
URL:https://advancealbanycounty.com/event/board-of-directors-meeting-2/
LOCATION:Advance Albany County Alliance\, 111 Washington Ave\, Albany\, NY\, 12210\, United States
CATEGORIES:ACPHLA
END:VEVENT
BEGIN:VEVENT
DTSTART;TZID=America/New_York:20250305T093000
DTEND;TZID=America/New_York:20250305T100000
DTSTAMP:20260421T042803
CREATED:20250728T154351Z
LAST-MODIFIED:20260122T194344Z
UID:10000238-1741167000-1741168800@advancealbanycounty.com
SUMMARY:Finance Committee Meeting
DESCRIPTION:
URL:https://advancealbanycounty.com/event/acphla-march-2025-3/
LOCATION:Advance Albany County Alliance\, 111 Washington Ave\, Albany\, NY\, 12210\, United States
CATEGORIES:ACPHLA
END:VEVENT
BEGIN:VEVENT
DTSTART;TZID=America/New_York:20250213T101500
DTEND;TZID=America/New_York:20250213T120000
DTSTAMP:20260421T042803
CREATED:20250728T152558Z
LAST-MODIFIED:20260113T032859Z
UID:10000235-1739441700-1739448000@advancealbanycounty.com
SUMMARY:Board of Directors Meeting
DESCRIPTION:
URL:https://advancealbanycounty.com/event/acphla-february-2025/
LOCATION:Advance Albany County Alliance\, 111 Washington Ave\, Albany\, NY\, 12210\, United States
CATEGORIES:ACPHLA
END:VEVENT
BEGIN:VEVENT
DTSTART;TZID=America/New_York:20250213T100000
DTEND;TZID=America/New_York:20250213T101500
DTSTAMP:20260421T042803
CREATED:20250728T154638Z
LAST-MODIFIED:20260122T194142Z
UID:10000239-1739440800-1739441700@advancealbanycounty.com
SUMMARY:Finance Committee Meeting
DESCRIPTION:
URL:https://advancealbanycounty.com/event/acphla-july-2025-2/
LOCATION:Advance Albany County Alliance\, 111 Washington Ave\, Albany\, NY\, 12210\, United States
CATEGORIES:ACPHLA
END:VEVENT
BEGIN:VEVENT
DTSTART;TZID=America/New_York:20250204T123000
DTEND;TZID=America/New_York:20250204T140000
DTSTAMP:20260421T042803
CREATED:20250728T155633Z
LAST-MODIFIED:20260122T194153Z
UID:10000240-1738672200-1738677600@advancealbanycounty.com
SUMMARY:Finance Committee Meeting
DESCRIPTION:
URL:https://advancealbanycounty.com/event/finance-committee-meeting-2/
LOCATION:Advance Albany County Alliance\, 111 Washington Ave\, Albany\, NY\, 12210\, United States
CATEGORIES:ACPHLA
END:VEVENT
END:VCALENDAR