BEGIN:VCALENDAR
VERSION:2.0
PRODID:-//Advance Albany County Alliance - ECPv6.15.18//NONSGML v1.0//EN
CALSCALE:GREGORIAN
METHOD:PUBLISH
X-ORIGINAL-URL:https://advancealbanycounty.com
X-WR-CALDESC:Events for Advance Albany County Alliance
REFRESH-INTERVAL;VALUE=DURATION:PT1H
X-Robots-Tag:noindex
X-PUBLISHED-TTL:PT1H
BEGIN:VTIMEZONE
TZID:America/New_York
BEGIN:DAYLIGHT
TZOFFSETFROM:-0500
TZOFFSETTO:-0400
TZNAME:EDT
DTSTART:20250309T070000
END:DAYLIGHT
BEGIN:STANDARD
TZOFFSETFROM:-0400
TZOFFSETTO:-0500
TZNAME:EST
DTSTART:20251102T060000
END:STANDARD
BEGIN:DAYLIGHT
TZOFFSETFROM:-0500
TZOFFSETTO:-0400
TZNAME:EDT
DTSTART:20260308T070000
END:DAYLIGHT
BEGIN:STANDARD
TZOFFSETFROM:-0400
TZOFFSETTO:-0500
TZNAME:EST
DTSTART:20261101T060000
END:STANDARD
BEGIN:DAYLIGHT
TZOFFSETFROM:-0500
TZOFFSETTO:-0400
TZNAME:EDT
DTSTART:20270314T070000
END:DAYLIGHT
BEGIN:STANDARD
TZOFFSETFROM:-0400
TZOFFSETTO:-0500
TZNAME:EST
DTSTART:20271107T060000
END:STANDARD
END:VTIMEZONE
BEGIN:VEVENT
DTSTART;TZID=America/New_York:20260120T083000
DTEND;TZID=America/New_York:20260120T084500
DTSTAMP:20260421T073814
CREATED:20260115T153711Z
LAST-MODIFIED:20260116T234325Z
UID:10000405-1768897800-1768898700@advancealbanycounty.com
SUMMARY:Governance Committee Meeting
DESCRIPTION:
URL:https://advancealbanycounty.com/event/acbdc-january-2026/
LOCATION:Advance Albany County Alliance\, 111 Washington Ave\, Albany\, NY\, 12210\, United States
CATEGORIES:ACBDC
END:VEVENT
BEGIN:VEVENT
DTSTART;TZID=America/New_York:20260120T084500
DTEND;TZID=America/New_York:20260120T093000
DTSTAMP:20260421T073814
CREATED:20251219T154336Z
LAST-MODIFIED:20260319T164437Z
UID:10000398-1768898700-1768901400@advancealbanycounty.com
SUMMARY:Board of Directors Meeting
DESCRIPTION:
URL:https://advancealbanycounty.com/event/acbdc-board-of-directors-meeting-1-20-26/
LOCATION:Advance Albany County Alliance\, 111 Washington Ave\, Albany\, NY\, 12210\, United States
CATEGORIES:ACBDC
END:VEVENT
END:VCALENDAR