BEGIN:VCALENDAR
VERSION:2.0
PRODID:-//Advance Albany County Alliance - ECPv6.15.18//NONSGML v1.0//EN
CALSCALE:GREGORIAN
METHOD:PUBLISH
X-ORIGINAL-URL:https://advancealbanycounty.com
X-WR-CALDESC:Events for Advance Albany County Alliance
REFRESH-INTERVAL;VALUE=DURATION:PT1H
X-Robots-Tag:noindex
X-PUBLISHED-TTL:PT1H
BEGIN:VTIMEZONE
TZID:America/New_York
BEGIN:DAYLIGHT
TZOFFSETFROM:-0500
TZOFFSETTO:-0400
TZNAME:EDT
DTSTART:20190310T070000
END:DAYLIGHT
BEGIN:STANDARD
TZOFFSETFROM:-0400
TZOFFSETTO:-0500
TZNAME:EST
DTSTART:20191103T060000
END:STANDARD
BEGIN:DAYLIGHT
TZOFFSETFROM:-0500
TZOFFSETTO:-0400
TZNAME:EDT
DTSTART:20200308T070000
END:DAYLIGHT
BEGIN:STANDARD
TZOFFSETFROM:-0400
TZOFFSETTO:-0500
TZNAME:EST
DTSTART:20201101T060000
END:STANDARD
BEGIN:DAYLIGHT
TZOFFSETFROM:-0500
TZOFFSETTO:-0400
TZNAME:EDT
DTSTART:20210314T070000
END:DAYLIGHT
BEGIN:STANDARD
TZOFFSETFROM:-0400
TZOFFSETTO:-0500
TZNAME:EST
DTSTART:20211107T060000
END:STANDARD
BEGIN:DAYLIGHT
TZOFFSETFROM:-0500
TZOFFSETTO:-0400
TZNAME:EDT
DTSTART:20220313T070000
END:DAYLIGHT
BEGIN:STANDARD
TZOFFSETFROM:-0400
TZOFFSETTO:-0500
TZNAME:EST
DTSTART:20221106T060000
END:STANDARD
BEGIN:DAYLIGHT
TZOFFSETFROM:-0500
TZOFFSETTO:-0400
TZNAME:EDT
DTSTART:20230312T070000
END:DAYLIGHT
BEGIN:STANDARD
TZOFFSETFROM:-0400
TZOFFSETTO:-0500
TZNAME:EST
DTSTART:20231105T060000
END:STANDARD
END:VTIMEZONE
BEGIN:VEVENT
DTSTART;TZID=America/New_York:20220727T083000
DTEND;TZID=America/New_York:20220727T093000
DTSTAMP:20260425T073521
CREATED:20250922T195200Z
LAST-MODIFIED:20250922T195201Z
UID:10000292-1658910600-1658914200@advancealbanycounty.com
SUMMARY:Board of Directors Meeting
DESCRIPTION:
URL:https://advancealbanycounty.com/event/aaca-july-2022/
LOCATION:Advance Albany County Alliance\, 111 Washington Ave\, Albany\, NY\, 12210\, United States
CATEGORIES:AACA
END:VEVENT
BEGIN:VEVENT
DTSTART;TZID=America/New_York:20220503T110000
DTEND;TZID=America/New_York:20220503T120000
DTSTAMP:20260425T073521
CREATED:20250922T195324Z
LAST-MODIFIED:20250922T195325Z
UID:10000293-1651575600-1651579200@advancealbanycounty.com
SUMMARY:Board of Directors Meeting
DESCRIPTION:
URL:https://advancealbanycounty.com/event/board-of-directors-meeting-9/
LOCATION:Advance Albany County Alliance\, 111 Washington Ave\, Albany\, NY\, 12210\, United States
CATEGORIES:AACA
END:VEVENT
BEGIN:VEVENT
DTSTART;TZID=America/New_York:20220323T083000
DTEND;TZID=America/New_York:20220323T093000
DTSTAMP:20260425T073521
CREATED:20250922T195418Z
LAST-MODIFIED:20250922T195419Z
UID:10000294-1648024200-1648027800@advancealbanycounty.com
SUMMARY:Board of Directors Meeting
DESCRIPTION:
URL:https://advancealbanycounty.com/event/aaca-march-2022/
LOCATION:Advance Albany County Alliance\, 111 Washington Ave\, Albany\, NY\, 12210\, United States
CATEGORIES:AACA
END:VEVENT
BEGIN:VEVENT
DTSTART;TZID=America/New_York:20220126T083000
DTEND;TZID=America/New_York:20220126T093000
DTSTAMP:20260425T073521
CREATED:20250922T195523Z
LAST-MODIFIED:20250922T195524Z
UID:10000295-1643185800-1643189400@advancealbanycounty.com
SUMMARY:Board of Directors Meeting
DESCRIPTION:
URL:https://advancealbanycounty.com/event/aaca-january-2022/
LOCATION:Advance Albany County Alliance\, 111 Washington Ave\, Albany\, NY\, 12210\, United States
CATEGORIES:AACA
END:VEVENT
BEGIN:VEVENT
DTSTART;TZID=America/New_York:20211117T083000
DTEND;TZID=America/New_York:20211117T093000
DTSTAMP:20260425T073521
CREATED:20250926T143944Z
LAST-MODIFIED:20250926T143945Z
UID:10000301-1637137800-1637141400@advancealbanycounty.com
SUMMARY:Board of Directors Meeting
DESCRIPTION:
URL:https://advancealbanycounty.com/event/aaca-november-2021/
LOCATION:Advance Albany County Alliance\, 111 Washington Ave\, Albany\, NY\, 12210\, United States
CATEGORIES:AACA
END:VEVENT
BEGIN:VEVENT
DTSTART;TZID=America/New_York:20210915T083000
DTEND;TZID=America/New_York:20210915T093000
DTSTAMP:20260425T073521
CREATED:20250926T143852Z
LAST-MODIFIED:20250926T143853Z
UID:10000300-1631694600-1631698200@advancealbanycounty.com
SUMMARY:Board of Directors Meeting
DESCRIPTION:
URL:https://advancealbanycounty.com/event/aaca-september-2021/
LOCATION:Advance Albany County Alliance\, 111 Washington Ave\, Albany\, NY\, 12210\, United States
CATEGORIES:AACA
END:VEVENT
BEGIN:VEVENT
DTSTART;TZID=America/New_York:20210721T083000
DTEND;TZID=America/New_York:20210721T093000
DTSTAMP:20260425T073521
CREATED:20250926T143803Z
LAST-MODIFIED:20250926T143804Z
UID:10000299-1626856200-1626859800@advancealbanycounty.com
SUMMARY:Board of Directors Meeting
DESCRIPTION:
URL:https://advancealbanycounty.com/event/aaca-july-2021/
LOCATION:Advance Albany County Alliance\, 111 Washington Ave\, Albany\, NY\, 12210\, United States
CATEGORIES:AACA
END:VEVENT
BEGIN:VEVENT
DTSTART;TZID=America/New_York:20210519T083000
DTEND;TZID=America/New_York:20210519T100000
DTSTAMP:20260425T073521
CREATED:20250926T143718Z
LAST-MODIFIED:20250926T143719Z
UID:10000298-1621413000-1621418400@advancealbanycounty.com
SUMMARY:Board of Directors Meeting
DESCRIPTION:
URL:https://advancealbanycounty.com/event/board-of-directors-meeting-11/
LOCATION:Advance Albany County Alliance\, 111 Washington Ave\, Albany\, NY\, 12210\, United States
CATEGORIES:AACA
END:VEVENT
BEGIN:VEVENT
DTSTART;TZID=America/New_York:20210317T083000
DTEND;TZID=America/New_York:20210317T093000
DTSTAMP:20260425T073521
CREATED:20250926T143612Z
LAST-MODIFIED:20250926T143613Z
UID:10000297-1615969800-1615973400@advancealbanycounty.com
SUMMARY:Board of Directors Meeting
DESCRIPTION:
URL:https://advancealbanycounty.com/event/board-of-directors-meeting-10/
LOCATION:Advance Albany County Alliance\, 111 Washington Ave\, Albany\, NY\, 12210\, United States
CATEGORIES:AACA
END:VEVENT
BEGIN:VEVENT
DTSTART;TZID=America/New_York:20210115T123000
DTEND;TZID=America/New_York:20210115T133000
DTSTAMP:20260425T073521
CREATED:20250926T143427Z
LAST-MODIFIED:20250926T143428Z
UID:10000296-1610713800-1610717400@advancealbanycounty.com
SUMMARY:Board of Directors Meeting
DESCRIPTION:
URL:https://advancealbanycounty.com/event/aaca-january-2021/
LOCATION:Advance Albany County Alliance\, 111 Washington Ave\, Albany\, NY\, 12210\, United States
CATEGORIES:AACA
END:VEVENT
BEGIN:VEVENT
DTSTART;TZID=America/New_York:20201213T140000
DTEND;TZID=America/New_York:20201213T150000
DTSTAMP:20260425T073521
CREATED:20250926T144523Z
LAST-MODIFIED:20250926T144524Z
UID:10000302-1607868000-1607871600@advancealbanycounty.com
SUMMARY:Board of Directors Meeting
DESCRIPTION:
URL:https://advancealbanycounty.com/event/aaca-december-2020/
CATEGORIES:AACA
END:VEVENT
END:VCALENDAR